BEGIN:VCALENDAR
VERSION:2.0
PRODID:-//Borås Trädgårdssällskap - ECPv6.15.20//NONSGML v1.0//EN
CALSCALE:GREGORIAN
METHOD:PUBLISH
X-ORIGINAL-URL:https://borastradgardssallskap.se
X-WR-CALDESC:Händelser för Borås Trädgårdssällskap
REFRESH-INTERVAL;VALUE=DURATION:PT1H
X-Robots-Tag:noindex
X-PUBLISHED-TTL:PT1H
BEGIN:VTIMEZONE
TZID:Europe/Stockholm
BEGIN:DAYLIGHT
TZOFFSETFROM:+0100
TZOFFSETTO:+0200
TZNAME:CEST
DTSTART:20250330T010000
END:DAYLIGHT
BEGIN:STANDARD
TZOFFSETFROM:+0200
TZOFFSETTO:+0100
TZNAME:CET
DTSTART:20251026T010000
END:STANDARD
BEGIN:DAYLIGHT
TZOFFSETFROM:+0100
TZOFFSETTO:+0200
TZNAME:CEST
DTSTART:20260329T010000
END:DAYLIGHT
BEGIN:STANDARD
TZOFFSETFROM:+0200
TZOFFSETTO:+0100
TZNAME:CET
DTSTART:20261025T010000
END:STANDARD
BEGIN:DAYLIGHT
TZOFFSETFROM:+0100
TZOFFSETTO:+0200
TZNAME:CEST
DTSTART:20270328T010000
END:DAYLIGHT
BEGIN:STANDARD
TZOFFSETFROM:+0200
TZOFFSETTO:+0100
TZNAME:CET
DTSTART:20271031T010000
END:STANDARD
END:VTIMEZONE
BEGIN:VEVENT
DTSTART;TZID=Europe/Stockholm:20260119T000000
DTEND;TZID=Europe/Stockholm:20260216T000000
DTSTAMP:20260425T131559
CREATED:20251123T122759Z
LAST-MODIFIED:20251123T122939Z
UID:4893-1768780800-1771200000@borastradgardssallskap.se
SUMMARY:GÅ KURS OCH ODLA DINA EGNA GRÖNSAKER. KURSLEDARE: THERESE RAGNARSSON SOM DRIVER VALLEN GÅRD OCH SKAFFERI\, ÖN\, FRISTAD\, 9 KURSTILLFÄLLEN UNDER SÄSONG 2026
DESCRIPTION:
URL:https://borastradgardssallskap.se/eventet/ga-kurs-och-odla-dina-egna-gronsaker-kursledare-therese-ragnarsson-som-driver-vallen-gard-och-skafferi-on-fristad-9-kurstillfallen-under-sasong-2026/
LOCATION:Ribbingsgården\, Borås
END:VEVENT
END:VCALENDAR