BEGIN:VCALENDAR
VERSION:2.0
PRODID:-//Borås Trädgårdssällskap - ECPv6.15.20//NONSGML v1.0//EN
CALSCALE:GREGORIAN
METHOD:PUBLISH
X-WR-CALNAME:Borås Trädgårdssällskap
X-ORIGINAL-URL:https://borastradgardssallskap.se
X-WR-CALDESC:Händelser för Borås Trädgårdssällskap
REFRESH-INTERVAL;VALUE=DURATION:PT1H
X-Robots-Tag:noindex
X-PUBLISHED-TTL:PT1H
BEGIN:VTIMEZONE
TZID:Europe/Stockholm
BEGIN:DAYLIGHT
TZOFFSETFROM:+0100
TZOFFSETTO:+0200
TZNAME:CEST
DTSTART:20250330T010000
END:DAYLIGHT
BEGIN:STANDARD
TZOFFSETFROM:+0200
TZOFFSETTO:+0100
TZNAME:CET
DTSTART:20251026T010000
END:STANDARD
BEGIN:DAYLIGHT
TZOFFSETFROM:+0100
TZOFFSETTO:+0200
TZNAME:CEST
DTSTART:20260329T010000
END:DAYLIGHT
BEGIN:STANDARD
TZOFFSETFROM:+0200
TZOFFSETTO:+0100
TZNAME:CET
DTSTART:20261025T010000
END:STANDARD
BEGIN:DAYLIGHT
TZOFFSETFROM:+0100
TZOFFSETTO:+0200
TZNAME:CEST
DTSTART:20270328T010000
END:DAYLIGHT
BEGIN:STANDARD
TZOFFSETFROM:+0200
TZOFFSETTO:+0100
TZNAME:CET
DTSTART:20271031T010000
END:STANDARD
END:VTIMEZONE
BEGIN:VEVENT
DTSTART;TZID=Europe/Stockholm:20260422T183000
DTEND;TZID=Europe/Stockholm:20260422T210000
DTSTAMP:20260424T154647
CREATED:20260221T145618Z
LAST-MODIFIED:20260221T145618Z
UID:4961-1776882600-1776891600@borastradgardssallskap.se
SUMMARY:MEDLEMSMÖTE 22 APRIL 2026 KL. 18.30\, RIBBINGSGÅRDEN
DESCRIPTION:Nyströms från Axamo\, Jönköping kommer tillbaka och berättar om sina vårväxter och vårblommor.  Det blev en mycket trevlig kväll hösten 2025 när de var hos oss och\nföreläste samt visade en del höstväxter som de hade i sitt sortiment i Axamo så vi\nser verkligen fram emot denna föreläsningen om vårblommor. \nKostnad 120 kr. Anmälan till Kjell Gunnarsson\, mob 0706-49 32 70 eller\nE-Post: imgk44@telia.com. Anmälan senast 19 april. Anmälan är bindande.
URL:https://borastradgardssallskap.se/eventet/medlemsmote-22-april-2026-kl-18-30-ribbingsgarden/
LOCATION:Ribbingsgården\, Borås
END:VEVENT
END:VCALENDAR