BEGIN:VCALENDAR
VERSION:2.0
PRODID:-//Borås Trädgårdssällskap - ECPv6.15.20//NONSGML v1.0//EN
CALSCALE:GREGORIAN
METHOD:PUBLISH
X-ORIGINAL-URL:https://borastradgardssallskap.se
X-WR-CALDESC:Händelser för Borås Trädgårdssällskap
REFRESH-INTERVAL;VALUE=DURATION:PT1H
X-Robots-Tag:noindex
X-PUBLISHED-TTL:PT1H
BEGIN:VTIMEZONE
TZID:Europe/Stockholm
BEGIN:DAYLIGHT
TZOFFSETFROM:+0100
TZOFFSETTO:+0200
TZNAME:CEST
DTSTART:20250330T010000
END:DAYLIGHT
BEGIN:STANDARD
TZOFFSETFROM:+0200
TZOFFSETTO:+0100
TZNAME:CET
DTSTART:20251026T010000
END:STANDARD
BEGIN:DAYLIGHT
TZOFFSETFROM:+0100
TZOFFSETTO:+0200
TZNAME:CEST
DTSTART:20260329T010000
END:DAYLIGHT
BEGIN:STANDARD
TZOFFSETFROM:+0200
TZOFFSETTO:+0100
TZNAME:CET
DTSTART:20261025T010000
END:STANDARD
BEGIN:DAYLIGHT
TZOFFSETFROM:+0100
TZOFFSETTO:+0200
TZNAME:CEST
DTSTART:20270328T010000
END:DAYLIGHT
BEGIN:STANDARD
TZOFFSETFROM:+0200
TZOFFSETTO:+0100
TZNAME:CET
DTSTART:20271031T010000
END:STANDARD
END:VTIMEZONE
BEGIN:VEVENT
DTSTART;TZID=Europe/Stockholm:20260517T110000
DTEND;TZID=Europe/Stockholm:20260517T150000
DTSTAMP:20260424T160110
CREATED:20260221T145846Z
LAST-MODIFIED:20260221T145846Z
UID:4963-1779015600-1779030000@borastradgardssallskap.se
SUMMARY:MARKNAD I FRISTAD PÅ MÖLARPSDAGEN 17 MAJ 2026 KL. 11 – 15
DESCRIPTION:Borås Trädgårdssällskap kommer att finnas på Mölarpsdagen för att sälja lotteri\, växter\nsamt rekrytera medlemmar till föreningen.\nVår förhoppning är att vi även träffar våra medlemmar där under dagen.\nOm du har några växter till övers som du kan skänka till föreningen så ta kontakt med\nInger Rindekrans 0708-65 82 72 under vecka 20 (11 – 15 maj)
URL:https://borastradgardssallskap.se/eventet/marknad-i-fristad-pa-molarpsdagen-17-maj-2026-kl-11-15/
LOCATION:Ribbingsgården\, Borås
END:VEVENT
BEGIN:VEVENT
DTSTART;TZID=Europe/Stockholm:20260521T181500
DTEND;TZID=Europe/Stockholm:20260521T200000
DTSTAMP:20260424T160110
CREATED:20260221T150051Z
LAST-MODIFIED:20260221T150051Z
UID:4965-1779387300-1779393600@borastradgardssallskap.se
SUMMARY:INKÖPSKVÄLL PÅ RÅNGEDALA HANDELSTRÄDGÅRD\, THERESE 21 MAJ 2026 KL. 18.15
DESCRIPTION:Vi åker till Rångedala Handelsträdgård och vår suveräna Therese för att köpa sommarblommor och höra henne berätta om sin odling och nya växter som hon tagit\nin. Alltid lika intressant. \nAnmälan till Agneta Svensson SMS 0705-946740 eller E-post: isa51.od@gmail. com
URL:https://borastradgardssallskap.se/eventet/inkopskvall-pa-rangedala-handelstradgard-therese-21-maj-2026-kl-18-15/
LOCATION:Rångedala Handelsträdgård\, Rångedala
END:VEVENT
BEGIN:VEVENT
DTSTART;TZID=Europe/Stockholm:20260523T100000
DTEND;TZID=Europe/Stockholm:20260523T140000
DTSTAMP:20260424T160110
CREATED:20260221T150255Z
LAST-MODIFIED:20260221T150255Z
UID:4967-1779530400-1779544800@borastradgardssallskap.se
SUMMARY:MARKNAD PÅ FRISTAD TORG  LÖRDAG 23 MAJ 2026 KL. 10.00 – 14.00
DESCRIPTION:Borås Trädgårdssällskap kommer att finnas på Fristad Torg med försäljning av blommor\,\nlotteri och medlemsrekrytering. Passa på att åka dit då det finns mycket olika knallar på\nplats. Om du har några växter till övers som du kan skänka till föreningen så ta kontakt med\nInger Rindekrans 0708-65 82 72 under vecka 20 (11-15 maj).
URL:https://borastradgardssallskap.se/eventet/marknad-pa-fristad-torg-lordag-23-maj-2026-kl-10-00-14-00/
LOCATION:Fristad
END:VEVENT
END:VCALENDAR